BEGIN:VCALENDAR
VERSION:2.0
PRODID:FOOTBALL.CH
CALSCALE:GREGORIAN
X-WR-TIMEZONE:Europe/Amsterdam
X-WR-CALNAME:BSC Old Boys - Juniorinnen FF-17 2. Stärkeklasse b
BEGIN:VTIMEZONE
TZID:TZsfv
X-LIC-LOCATION:Europe/Amsterdam
BEGIN:STANDARD
TZOFFSETFROM:+0200
TZOFFSETTO:+0100
TZNAME:CET
DTSTART:20061029T030000
RRULE:FREQ=YEARLY;BYMONTH=10;BYDAY=-1SU
END:STANDARD
BEGIN:DAYLIGHT
TZOFFSETFROM:+0100
TZOFFSETTO:+0200
TZNAME:CEST
DTSTART:20070325T030000
RRULE:FREQ=YEARLY;BYMONTH=3;BYDAY=-1SU
END:DAYLIGHT
END:VTIMEZONE
BEGIN:VEVENT
DTSTART;TZID=TZsfv:20260208T130000
DTEND;TZID=TZsfv:20260208T150000
UID:4249649@football.ch
DTSTAMP:20251221T140349Z
SUMMARY:BSC Old Boys (4.L(F))
  - BSC Old Boys b (FF-17 2/S)
DESCRIPTION:Trainingsspiele
  
 \n\nSpielnummer 719387
 \nnoch nicht ausgetragen
 \n\nhttps://matchcenter.football.ch/?v=422&lng=1
LOCATION:Schützenmatte\, Basel - wird vor Ort zugeteilt
CLASS:PUBLIC
X-MICROSOFT-CDO-BUSYSTATUS:FREE
END:VEVENT
BEGIN:VEVENT
DTSTART;TZID=TZsfv:20260308T110000
DTEND;TZID=TZsfv:20260308T130000
UID:4246610@football.ch
DTSTAMP:20251221T140349Z
SUMMARY:FC Reinach (FF-17 2/S)
  - BSC Old Boys b (FF-17 2/S)
DESCRIPTION:Trainingsspiele
  
 \n\nSpielnummer 716479
 \nnoch nicht ausgetragen
 \n\nhttps://matchcenter.football.ch/?v=422&lng=1
LOCATION:Fiechten\, Reinach - 1
CLASS:PUBLIC
X-MICROSOFT-CDO-BUSYSTATUS:FREE
END:VEVENT
BEGIN:VEVENT
DTSTART;TZID=TZsfv:20260314T110000
DTEND;TZID=TZsfv:20260314T130000
UID:4255359@football.ch
DTSTAMP:20251221T140349Z
SUMMARY:BSC Old Boys b (FF-17 2/S)
  - SC Steinen Basel (FF-17 2/S)
DESCRIPTION:Meisterschaft
  Juniorinnen FF-17 2. Stärkeklasse - Frühjahrsrunde
 \n\nSpielnummer 188280
 \nneu angesetzt
 \n\nhttps://matchcenter.football.ch/?v=422&lng=1
LOCATION:Schützenmatte\, Basel - wird vor Ort zugeteilt
CLASS:PUBLIC
X-MICROSOFT-CDO-BUSYSTATUS:FREE
END:VEVENT
BEGIN:VEVENT
DTSTART;TZID=TZsfv:20260322T100000
DTEND;TZID=TZsfv:20260322T120000
UID:4255360@football.ch
DTSTAMP:20251221T140349Z
SUMMARY:FC Reinach (FF-17 2/S)
  - BSC Old Boys b (FF-17 2/S)
DESCRIPTION:Meisterschaft
  Juniorinnen FF-17 2. Stärkeklasse - Frühjahrsrunde
 \n\nSpielnummer 188281
 \nnoch nicht ausgetragen
 \n\nhttps://matchcenter.football.ch/?v=422&lng=1
LOCATION:Fiechten\, Reinach - 2
CLASS:PUBLIC
X-MICROSOFT-CDO-BUSYSTATUS:FREE
END:VEVENT
BEGIN:VEVENT
DTSTART;TZID=TZsfv:20260328T110000
DTEND;TZID=TZsfv:20260328T130000
UID:4255368@football.ch
DTSTAMP:20251221T140349Z
SUMMARY:BSC Old Boys b (FF-17 2/S)
  - FC Frenkendorf (FF-17 2/S)
DESCRIPTION:Meisterschaft
  Juniorinnen FF-17 2. Stärkeklasse - Frühjahrsrunde
 \n\nSpielnummer 188289
 \nneu angesetzt
 \n\nhttps://matchcenter.football.ch/?v=422&lng=1
LOCATION:Schützenmatte\, Basel - wird vor Ort zugeteilt
CLASS:PUBLIC
X-MICROSOFT-CDO-BUSYSTATUS:FREE
END:VEVENT
BEGIN:VEVENT
DTSTART;TZID=TZsfv:20260412T153000
DTEND;TZID=TZsfv:20260412T173000
UID:4255371@football.ch
DTSTAMP:20251221T140349Z
SUMMARY:FC Gelterkinden (FF-17 2/S)
  - BSC Old Boys b (FF-17 2/S)
DESCRIPTION:Meisterschaft
  Juniorinnen FF-17 2. Stärkeklasse - Frühjahrsrunde
 \n\nSpielnummer 188292
 \nneu angesetzt
 \n\nhttps://matchcenter.football.ch/?v=422&lng=1
LOCATION:Wolfstiege\, Gelterkinden - 1
CLASS:PUBLIC
X-MICROSOFT-CDO-BUSYSTATUS:FREE
END:VEVENT
BEGIN:VEVENT
DTSTART;TZID=TZsfv:20260418T130000
DTEND;TZID=TZsfv:20260418T150000
UID:4255377@football.ch
DTSTAMP:20251221T140349Z
SUMMARY:BSC Old Boys b (FF-17 2/S)
  - FC Liestal (FF-17 2/S)
DESCRIPTION:Meisterschaft
  Juniorinnen FF-17 2. Stärkeklasse - Frühjahrsrunde
 \n\nSpielnummer 188298
 \nneu angesetzt
 \n\nhttps://matchcenter.football.ch/?v=422&lng=1
LOCATION:Schützenmatte\, Basel - wird vor Ort zugeteilt
CLASS:PUBLIC
X-MICROSOFT-CDO-BUSYSTATUS:FREE
END:VEVENT
BEGIN:VEVENT
DTSTART;TZID=TZsfv:20260426T150000
DTEND;TZID=TZsfv:20260426T170000
UID:4255382@football.ch
DTSTAMP:20251221T140349Z
SUMMARY:FC Concordia Basel b (FF-17 2/S)
  - BSC Old Boys b (FF-17 2/S)
DESCRIPTION:Meisterschaft
  Juniorinnen FF-17 2. Stärkeklasse - Frühjahrsrunde
 \n\nSpielnummer 188303
 \nnoch nicht ausgetragen
 \n\nhttps://matchcenter.football.ch/?v=422&lng=1
LOCATION:Sportanlagen St. Jakob\, Basel - wird vor Ort zugeteilt
CLASS:PUBLIC
X-MICROSOFT-CDO-BUSYSTATUS:FREE
END:VEVENT
BEGIN:VEVENT
DTSTART;TZID=TZsfv:20260502T130000
DTEND;TZID=TZsfv:20260502T150000
UID:4255386@football.ch
DTSTAMP:20251221T140349Z
SUMMARY:BSC Old Boys b (FF-17 2/S)
  - FC Therwil FF-17 (FF-17 2/S)
DESCRIPTION:Meisterschaft
  Juniorinnen FF-17 2. Stärkeklasse - Frühjahrsrunde
 \n\nSpielnummer 188307
 \nneu angesetzt
 \n\nhttps://matchcenter.football.ch/?v=422&lng=1
LOCATION:Schützenmatte\, Basel - wird vor Ort zugeteilt
CLASS:PUBLIC
X-MICROSOFT-CDO-BUSYSTATUS:FREE
END:VEVENT
BEGIN:VEVENT
DTSTART;TZID=TZsfv:20260509T100000
DTEND;TZID=TZsfv:20260509T120000
UID:4255393@football.ch
DTSTAMP:20251221T140349Z
SUMMARY:FC Arlesheim (FF-17 2/S)
  - BSC Old Boys b (FF-17 2/S)
DESCRIPTION:Meisterschaft
  Juniorinnen FF-17 2. Stärkeklasse - Frühjahrsrunde
 \n\nSpielnummer 188314
 \nnoch nicht ausgetragen
 \n\nhttps://matchcenter.football.ch/?v=422&lng=1
LOCATION:In den Widen\, Arlesheim - wird vor Ort zugeteilt
CLASS:PUBLIC
X-MICROSOFT-CDO-BUSYSTATUS:FREE
END:VEVENT
BEGIN:VEVENT
DTSTART;TZID=TZsfv:20260516T150000
DTEND;TZID=TZsfv:20260516T170000
UID:4255395@football.ch
DTSTAMP:20251221T140349Z
SUMMARY:BSC Old Boys b (FF-17 2/S)
  - FC Telegraph BS (FF-17 2/S)
DESCRIPTION:Meisterschaft
  Juniorinnen FF-17 2. Stärkeklasse - Frühjahrsrunde
 \n\nSpielnummer 188316
 \nneu angesetzt
 \n\nhttps://matchcenter.football.ch/?v=422&lng=1
LOCATION:Schützenmatte\, Basel - wird vor Ort zugeteilt
CLASS:PUBLIC
X-MICROSOFT-CDO-BUSYSTATUS:FREE
END:VEVENT
BEGIN:VEVENT
DTSTART;TZID=TZsfv:20260530T000000
DTEND;TZID=TZsfv:20260530T020000
UID:4255404@football.ch
DTSTAMP:20251221T140349Z
SUMMARY:SC Basel Nord (FF-17 2/S)
  - BSC Old Boys b (FF-17 2/S)
DESCRIPTION:Meisterschaft
  Juniorinnen FF-17 2. Stärkeklasse - Frühjahrsrunde
 \n\nSpielnummer 188325
 \nnoch nicht ausgetragen
 \n\nhttps://matchcenter.football.ch/?v=422&lng=1
LOCATION:Rankhof\, Basel - wird vor Ort zugeteilt
CLASS:PUBLIC
X-MICROSOFT-CDO-BUSYSTATUS:FREE
END:VEVENT
END:VCALENDAR
